BEGIN:VCALENDAR
VERSION:2.0
PRODID:-//wp-events-plugin.com//6.5.2//EN
TZID:Asia/Kolkata
X-WR-TIMEZONE:Asia/Kolkata
BEGIN:VEVENT
UID:9@aero.iisc.ac.in
DTSTART:20240205T140000Z
DTEND:20240205T150000Z
DTSTAMP:20240321T084056Z
URL:https://aero.iisc.ac.in/events/innovations-in-aerospace-systems/
SUMMARY:AE Seminar
DESCRIPTION:Innovations in Aerospace Systems – Current Research (includin
 g Artificial Intelligence) and Future Challenges\n\nSpeaker\nProf. Krishna
  Dev Kumar\nProfessor of Aerospace Engineering\nDirector of Artificial Int
 elligence for Aerospace Systems Laboratory\nToronto Metropolitan Universit
 y\, Canada\n\nAbstract\nAircraft and spacecraft are highly complex systems
 \, comprising various subsystems such as flight control\, propulsion\, and
  power. These subsystems feature Multiple Input &amp\; Multiple Output (MI
 MO) configurations and exhibit highly nonlinear characteristics. Over rece
 nt years\, there has been a growing demand for aerospace systems with impr
 oved performance\, fault tolerance\, and enhanced autonomous capabilities.
  This presentation explores how fault diagnosis\, prognosis and artificial
  intelligence can address these requirements. It delves into model-based\,
  data-driven (artificial intelligence)\, and hybrid approaches\, which hav
 e been proposed for fault diagnosis and prognosis. Furthermore\, the autho
 r has proposed novel methods to meet these evolving demands. These innovat
 ive techniques\, including the Covariance-based adaptive unscented Kalman 
 filter (CAUKF)\, Binary grid covariance adaptive Kalman filter (GAUKF)\, R
 einforced Unscented Kalman Filter (an integration of UKF and Reinforcement
  Learning techniques)\, and Growing Neural Networks (GNN)\, hold promise f
 or aerospace system enhancement. The presentation will feature case studie
 s illustrating the application of these methods in spacecraft attitude and
  orbit control systems\, as well as aircraft engines. By examining the lat
 est advancements and methodologies\, attendees will gain insights into the
  pivotal role these techniques play in enhancing aerospace system reliabil
 ity and efficiency\, ultimately addressing current research challenges and
  shaping the trajectory of future aerospace systems.\nBrief Bio of Speaker
 :\nDr. Krishna D. Kumar is a Professor of Aerospace Engineering and Direct
 or of Artificial Intelligence for Aerospace Systems (AIAS) Laboratory at T
 oronto Metropolitan University\, Canada. Additionally\, he is the Founder 
 and President of iSAC Systems Inc\,  a leader in Artificial Intelligence 
 (AI)\, Internet-of-Things (IoT)\, and Smart Systems since 2010. Prof. Kuma
 r has made outstanding contributions with major impact in the areas of spa
 cecraft dynamics and control\, fault diagnosis and prognosis\, artificial 
 intelligence\, and predictive analytics with over 250 publications includi
 ng 5 books\, 14 intellectual properties\, and four patents. His AI and IoT
  products have been deployed across diverse industries\, including aerospa
 ce\, transportation\, and waste management. His illustrious career boasts 
 several remarkable achievements\, including the development of AI-powered 
 predictive analytics for the NASA Kepler Spacecraft and Aircraft Engines\,
  the world's first 100-gram miniature satellite\, and the world's first mi
 niature IoT monitoring systems for Bombardier Trains\, and Safran Aircraft
  Landing gears.  Prof. Kumar’s exemplary contributions to the field hav
 e been widely recognized with numerous national and international awards\,
  including the prestigious Canada Research Chair Award\, Ontario Early Res
 earcher Award\, Associate Fellow of American Aeronautics and Astronautics\
 , Japan Society for the Promotion of Science Fellow\, Japan Science and Te
 chnology Agency Fellow\, Member of the International Academy of Astronauti
 cs in France\, the Sarwan Sahota Ryerson Distinguished Scholar Award\, and
  the Eminent Alumnus Award from Veer Surendra Sai University of Technology
 \, Sambalpur\, India. Furthermore\, Prof. Kumar is the Co-Editor of Acta A
 stronautica and Transactions of the Japan Society for Aeronautical and Sp
 ace Sciences.\nVenue\nSTC Seminar Hall\, Dept. of Aerospace Engineering
ATTACH;FMTTYPE=image/jpeg:https://aero.iisc.ac.in/wp-content/uploads/2022/
 11/home-image1.jpg
CATEGORIES:Seminar Series
END:VEVENT
END:VCALENDAR